BEGIN:VCALENDAR
VERSION:2.0
PRODID:-//Orc&#039;s Forge Games - ECPv6.15.1.1//NONSGML v1.0//EN
CALSCALE:GREGORIAN
METHOD:PUBLISH
X-ORIGINAL-URL:https://orcsforge.com
X-WR-CALDESC:Events for Orc&#039;s Forge Games
REFRESH-INTERVAL;VALUE=DURATION:PT1H
X-Robots-Tag:noindex
X-PUBLISHED-TTL:PT1H
BEGIN:VTIMEZONE
TZID:UTC
BEGIN:STANDARD
TZOFFSETFROM:+0000
TZOFFSETTO:+0000
TZNAME:UTC
DTSTART:20180101T000000
END:STANDARD
END:VTIMEZONE
BEGIN:VEVENT
DTSTART;TZID=UTC:20190130T180000
DTEND;TZID=UTC:20190130T210000
DTSTAMP:20260423T205304
CREATED:20180709T182217Z
LAST-MODIFIED:20190129T172754Z
UID:162-1548871200-1548882000@orcsforge.com
SUMMARY:D&D Adventurers League
DESCRIPTION:Join us every Wednesday for adventure! New and experienced Dungeons & Dragons players are all welcome. Bring your Adventurers League character\, create a new one\, or pick up a Pre-Generated character at the event to get you started. \nUtilizing the wildly popular 5th Edition D&D rules you can take your quest to the next level. \nWe carry a full line of D&D books\, accessories and dice so you can stock up on all your adventuring gear! \nThere is no RSVP seating for this event. \nWe’ll see you at The Forge!
URL:https://orcsforge.com/event/dd-adventurers-league-2019-01-30/
LOCATION:Orc’s Forge Games\, 5043Tuttle Crossing Blvd\, Dublin\, OH\, 43016\, United States
CATEGORIES:D&D,Role Playing Games
ATTACH;FMTTYPE=image/jpeg:https://orcsforge.com/wp-content/uploads/2018/07/adv-league-cropped-e1531160480969.jpg
END:VEVENT
BEGIN:VEVENT
DTSTART;TZID=UTC:20180811T110000
DTEND;TZID=UTC:20180811T170000
DTSTAMP:20260423T205304
CREATED:20180717T011623Z
LAST-MODIFIED:20180717T023038Z
UID:237-1533985200-1534006800@orcsforge.com
SUMMARY:D&D Epic Event: RED WAR
DESCRIPTION:Join Orc’s Forge Games’ next 5E Epic Event\, “Red War” on Saturday\, August 11th. \nThe Hour is Ripe for Conflict! \nThe Cults of Elemental Evil had wrought incredible destruction on the city of Mulmaster\, and in its hour of need\, the City of Danger received aid from an unlikely ally – the Mageocracy of Thay. Now\, with Mulmaster moving ever closer into Thay’s orbit\, strife is brewing within the Factions as some call for action against the Red Wizards. \nThis is a massive undertaking for heroes of every Tier; levels 1-20\, so bring your best character to the table! \nAnd take advantage of Fai Chen’s Fantastical Faire for the duration of the event. \nFai Chen Opens at 11am\, seating to the event begins at Noon. \nEntry is $10. \nPre-register for your seat now.
URL:https://orcsforge.com/event/dd-epic-event-red-war/
LOCATION:Orc’s Forge Games\, 5043Tuttle Crossing Blvd\, Dublin\, OH\, 43016\, United States
CATEGORIES:D&D,Role Playing Games
ATTACH;FMTTYPE=image/png:https://orcsforge.com/wp-content/uploads/2018/08/red-war-epic.png
END:VEVENT
BEGIN:VEVENT
DTSTART;TZID=UTC:20180718T180000
DTEND;TZID=UTC:20180718T210000
DTSTAMP:20260423T205304
CREATED:20180709T182217Z
LAST-MODIFIED:20190129T171848Z
UID:93-1531936800-1531947600@orcsforge.com
SUMMARY:D&D Adventurers League
DESCRIPTION:Join us every Wednesday for adventure! New and experienced Dungeons & Dragons players are all welcome. Bring your Adventurers League character\, create a new one\, or pick up a Pre-Generated character at the event to get you started. \nUtilizing the wildly popular 5th Edition D&D rules you can take your quest to the next level. \nWe carry a full line of D&D books\, accessories and dice so you can stock up on all your adventuring gear! \nThere is no RSVP seating for this event. \nWe’ll see you at The Forge!
URL:https://orcsforge.com/event/dd-adventurers-league/
LOCATION:Orc’s Forge Games\, 5043Tuttle Crossing Blvd\, Dublin\, OH\, 43016\, United States
CATEGORIES:D&D,Role Playing Games
ATTACH;FMTTYPE=image/jpeg:https://orcsforge.com/wp-content/uploads/2018/07/adv-league-cropped-e1531160480969.jpg
END:VEVENT
END:VCALENDAR