BEGIN:VCALENDAR
VERSION:2.0
PRODID:-//Orc&#039;s Forge Games - ECPv6.15.1.1//NONSGML v1.0//EN
CALSCALE:GREGORIAN
METHOD:PUBLISH
X-ORIGINAL-URL:https://orcsforge.com
X-WR-CALDESC:Events for Orc&#039;s Forge Games
REFRESH-INTERVAL;VALUE=DURATION:PT1H
X-Robots-Tag:noindex
X-PUBLISHED-TTL:PT1H
BEGIN:VTIMEZONE
TZID:UTC
BEGIN:STANDARD
TZOFFSETFROM:+0000
TZOFFSETTO:+0000
TZNAME:UTC
DTSTART:20180101T000000
END:STANDARD
END:VTIMEZONE
BEGIN:VEVENT
DTSTART;TZID=UTC:20180823T180000
DTEND;TZID=UTC:20180823T210000
DTSTAMP:20260423T205722
CREATED:20180815T145535Z
LAST-MODIFIED:20180815T145535Z
UID:292-1535047200-1535058000@orcsforge.com
SUMMARY:Game Night: Outlive
DESCRIPTION:In Outlive\, each player represents a Tribe that survived a recent nuclear holocaust. Your shelters protected your people from the worst of it\, however they won’t do against the impending fall-out. Only six days remain before the arrival of Convoy and only the Tribe that has proven their worth will be able join the organization. It’s a race against time to gather what you need and prove to Convoy that you belong. The survival of your Tribe depends on you successfully joining Convoy because it’s doubtful our shelters will protect you for more than a week. \nWe teach the rules and you get to play! \nPurchase a $10 Orc’s Forge Games Gift Card to play. Or purchase Outlive from Orc’s Forge Games between now and game night and play for free! \nAlready own the game? Bring your copy and play with the purchase of a $5 OFG Gift Card.
URL:https://orcsforge.com/event/game-night-outlive/
LOCATION:Orc’s Forge Games\, 5043Tuttle Crossing Blvd\, Dublin\, OH\, 43016\, United States
CATEGORIES:Board Games,Game Night
ATTACH;FMTTYPE=image/png:https://orcsforge.com/wp-content/uploads/2018/08/Outlive-GN.png
END:VEVENT
END:VCALENDAR